BEGIN:VCALENDAR
VERSION:2.0
PRODID:-//eventon.com NONSGML v1.0//EN
CALSCALE:GREGORIAN
METHOD:PUBLISH
BEGIN:VEVENT
UID:69eb99b9da189
DTSTAMP:20260424T162633Z
DTSTART:20250517T100000Z
DTEND:20250517T140000Z
LOCATION:East Whatcom Regional Resource Center (EWRRC) 8251 Kendal Rd
SUMMARY:Catherine Mahaffey East Whatcom Wellness Fair 2025
DESCRIPTION:Join us at the 4th Annual Catherine Mahaffey East Whatcom Welln
 ess Fair! Free services and resources will be offered by local providers. E
 vent is from 10 a.m. to 2 p.m. Free to attend\,  the Wellness Fair is named
  in honor of the late Catherine Mahaffey\,  a philanthropist deeply investe
 d in[..]\nhttps://www.oppco.org/events/wellness-fair-2025/
URL:https://www.oppco.org/events/wellness-fair-2025/
END:VEVENT
END:VCALENDAR