BEGIN:VCALENDAR
VERSION:2.0
PRODID:-//eventon.com NONSGML v1.0//EN
CALSCALE:GREGORIAN
METHOD:PUBLISH
BEGIN:VEVENT
UID:69ea3b0308215
DTSTAMP:20260423T153011Z
DTSTART:20240322T100000Z
DTEND:20240322T140000Z
LOCATION:Whatcom County Community Resource Center 1111 Cornwall Ave.
SUMMARY:DSHS Mobile Office (Bellingham)
DESCRIPTION:Come to the parking lot of our Whatcom Community Resource Cente
 r for the DSHS Mobile Office! DSHS workers will be able to assist you like 
 they would at their Community Services Office. They can assist you with app
 lications\,  paperwork\,  and interviews\,  complete case reviews\,  and is
 sue new or replacement EBT[..]\nhttps://www.oppco.org/events/dshs-mobile-of
 fice/
URL:https://www.oppco.org/events/dshs-mobile-office/
END:VEVENT
END:VCALENDAR