BEGIN:VCALENDAR
VERSION:2.0
PRODID:-//eventon.com NONSGML v1.0//EN
CALSCALE:GREGORIAN
METHOD:PUBLISH
BEGIN:VEVENT
UID:69eb9ee163402
DTSTAMP:20260424T164833Z
DTSTART:20241013T000000Z
DTEND:20241013T030000Z
LOCATION:Boundary Bay Brewery 1107 Railroad Ave
SUMMARY:Empty Bowls 2024
DESCRIPTION:Eat soup\,  feed others\,  and score a handmade bowl! The Empty
  Bowls fundraiser is returning this year to Boundary Bay Brewery\,  The $20
  ticket includes your choice of soup from local restaurants\,  bread\,  and
  a handmade ceramic bowl of your choice\,  plus a silent auction of local a
 rt\,  live music\, [..]\nhttps://www.oppco.org/events/empty-bowls-2024/
URL:https://www.oppco.org/events/empty-bowls-2024/
END:VEVENT
END:VCALENDAR