BEGIN:VCALENDAR
VERSION:2.0
PRODID:-//eventon.com NONSGML v1.0//EN
CALSCALE:GREGORIAN
METHOD:PUBLISH
BEGIN:VEVENT
UID:69e8f8e6ec731
DTSTAMP:20260422T163550Z
DTSTART:20230501
DTEND:20230601
LOCATION:Nelson&#039;s Market 514 Potter Street
SUMMARY:Nelson's Market
DESCRIPTION:Support Dine Out for Maple Alley Inn the entire month of May wh
 en you enjoy any of our American-style lunch and dinner entrees at Nelsonâ€
 ™s Market\,  the hub of Bellinghamâ€™s York neighborhood since 1895. We rec
 ommend trying our generous burgers\,  signature Full Nelson Club or crispy 
 chicken sandwich. Living up[..]\nhttps://www.oppco.org/events/nelsons-marke
 t/
URL:https://www.oppco.org/events/nelsons-market/
END:VEVENT
END:VCALENDAR