BEGIN:VCALENDAR
VERSION:2.0
PRODID:-//eventon.com NONSGML v1.0//EN
CALSCALE:GREGORIAN
METHOD:PUBLISH
BEGIN:VEVENT
UID:69e50cdd4faa1
DTSTAMP:20260419T171157Z
DTSTART:20241031T230000Z
DTEND:20241101T020000Z
LOCATION:
SUMMARY:Board of Directors meeting
DESCRIPTION:Opportunity Council is a governed by a Board of Directors that 
 meets throughout the year. Location varies. Contact info@oppco.org for loca
 tion information.\nhttps://www.oppco.org/events/board-of-directors-meeting-
 3/var/ri-15.l-L1
URL:https://www.oppco.org/events/board-of-directors-meeting-3/var/ri-15.l-L1
END:VEVENT
END:VCALENDAR