BEGIN:VCALENDAR
VERSION:2.0
PRODID:-//eventon.com NONSGML v1.0//EN
CALSCALE:GREGORIAN
METHOD:PUBLISH
BEGIN:VEVENT
UID:69ec346884ac3
DTSTAMP:20260425T032632Z
DTSTART:20230501
DTEND:20230601
LOCATION:Bantam 1327 Railroad Ave
SUMMARY:Bantam
DESCRIPTION:Bantam Kitchen &amp; Bar serves Rotisserie Chicken\,  Fried Chi
 cken\,  Southern Style Sides and Cocktails. Bantam is family-friendly downs
 tairs\,  21 and over upstairs. Bar upstairs\,  and heated outdoor patio. Di
 ne-in or to-go. Reservations are recommended\,  and walk-ins are welcome. H
 ours: T-Th 4 p.m. to 9 p.m.\,  Fri-Sat 4 p.m. to 10[..]\nhttps://www.oppco.
 org/events/bantam/
URL:https://www.oppco.org/events/bantam/
END:VEVENT
END:VCALENDAR